BEGIN:VCALENDAR
VERSION:2.0
PRODID:-//wp-events-plugin.com//7.2.3.1//EN
TZID:Europe/London
X-WR-TIMEZONE:Europe/London
BEGIN:VEVENT
UID:2@politicsinthepub.co.uk
DTSTART;TZID=Europe/London:20250408T183000
DTEND;TZID=Europe/London:20250408T210000
DTSTAMP:20250310T101410Z
URL:https://www.politicsinthepub.co.uk/events/tonights-topic-is-traditiona
 l-really-just-mainstream/
SUMMARY:⭐Tonights topic: Is “Traditional” really just “Mainstream
 ”?
DESCRIPTION:Isn't the term "Traditional" just a cover for hiding what's act
 ually popular and mainstream? Is it perhaps a way of pretend normal every 
 day things are somehow old hat\, something from the past that can and shou
 ld be replace with something new and better? Perhaps something from the mo
 re radical end of the political spectrum?\nAnd if that's true why are we c
 alling things "Traditional"?\n\n🍺🍷Grab a drink\, 🪑find your seat\
 , and let's unpack this together 🎭\n\nWhat do you think? 🤔\n\n\n\n
 🍺🤔 POLITICS IN THE PUB is a non-partisan group for radicals\, maveri
 cks and freethinkers to meet\, socialise &amp\; engage in high quality Int
 ellectual discussions in good faith (with drinks!🍺🍷) &amp\; is for a
 nyone interested in:\n• 🧠 Psychology &amp\; biology\n• 🗳️ Poli
 tics &amp\; political discourse\n• 📜 Philosophy &amp\; literature\n
 • 🍆 Sex\, Sexuality &amp\; "Gender"\n• 📜 Enlightenment Values\n
 • 📊 Economics\n• ⚖️ Liberalism\n• 💬 Freedom of expression\
 n• 💭 Freedom of thought\n• 🧑‍🤝‍🧑 Freedom of assembly\n
 • 🎌 Nationalism &amp\; Populism\n• 💸 Capitalism\, its pro &amp\;
  cons\n• ☭ Communism\, why it never works\n• 👥 Immigration &amp\;
  multiculturalism\n• 💩 The Grievance studies affair\n• 🤪 Post mo
 dern nonsense\n• 🍺🍷 Having a good time!!
ATTACH;FMTTYPE=image/jpeg:https://www.politicsinthepub.co.uk/wp-content/up
 loads/2025/01/Mainstream.jpg
LOCATION:The Queens Larder\, 1 Queen Square\, Holborn\, London\, WC1N 3AR\,
  United Kingdom
GEO:51.521233;-0.122504
X-APPLE-STRUCTURED-LOCATION;VALUE=URI;X-ADDRESS=1 Queen Square\, Holborn\, 
 London\, WC1N 3AR\, United Kingdom;X-APPLE-RADIUS=100;X-TITLE=The Queens L
 arder:geo:51.521233,-0.122504
END:VEVENT
BEGIN:VTIMEZONE
TZID:Europe/London
X-LIC-LOCATION:Europe/London
BEGIN:DAYLIGHT
DTSTART:20250330T020000
TZOFFSETFROM:+0000
TZOFFSETTO:+0100
TZNAME:BST
END:DAYLIGHT
END:VTIMEZONE
END:VCALENDAR