BEGIN:VCALENDAR
VERSION:2.0
PRODID:-//wp-events-plugin.com//7.2.3.1//EN
TZID:Europe/London
X-WR-TIMEZONE:Europe/London
BEGIN:VEVENT
UID:3@politicsinthepub.co.uk
DTSTART;TZID=Europe/London:20250506T183000
DTEND;TZID=Europe/London:20250506T210000
DTSTAMP:20250310T103442Z
URL:https://www.politicsinthepub.co.uk/events/who-is-britain-for/
SUMMARY:WHO IS BRITAIN FOR?
DESCRIPTION:WHO IS BRITAIN FOR?\nThat's the question.\n&nbsp\;\n\n&nbsp\;\n
 \n&nbsp\;\n\nWhat do you think? 🤔\n\n\n\n🍺🤔 POLITICS IN THE PUB i
 s a non-partisan group for radicals\, mavericks and freethinkers to meet\,
  socialise &amp\; engage in high quality Intellectual discussions in good 
 faith (with drinks!🍺🍷) &amp\; is for anyone interested in:\n• 🧠
  Psychology &amp\; biology\n• 🗳️ Politics &amp\; political discours
 e\n• 📜 Philosophy &amp\; literature\n• 🍆 Sex\, Sexuality &amp\; 
 "Gender"\n• 📜 Enlightenment Values\n• 📊 Economics\n• ⚖️ Li
 beralism\n• 💬 Freedom of expression\n• 💭 Freedom of thought\n•
  🧑‍🤝‍🧑 Freedom of assembly\n• 🎌 Nationalism &amp\; Popul
 ism\n• 💸 Capitalism\, its pro &amp\; cons\n• ☭ Communism\, why it
  never works\n• 👥 Immigration &amp\; multiculturalism\n• 💩 The G
 rievance studies affair\n• 🤪 Post modern nonsense\n• 🍺🍷 Havin
 g a good time!!
ATTACH;FMTTYPE=image/jpeg:https://www.politicsinthepub.co.uk/wp-content/up
 loads/2025/03/Who-is-Britian-for.jpg
LOCATION:The Queens Larder\, 1 Queen Square\, Holborn\, London\, WC1N 3AR\,
  United Kingdom
GEO:51.521233;-0.122504
X-APPLE-STRUCTURED-LOCATION;VALUE=URI;X-ADDRESS=1 Queen Square\, Holborn\, 
 London\, WC1N 3AR\, United Kingdom;X-APPLE-RADIUS=100;X-TITLE=The Queens L
 arder:geo:51.521233,-0.122504
END:VEVENT
BEGIN:VTIMEZONE
TZID:Europe/London
X-LIC-LOCATION:Europe/London
BEGIN:DAYLIGHT
DTSTART:20250330T020000
TZOFFSETFROM:+0000
TZOFFSETTO:+0100
TZNAME:BST
END:DAYLIGHT
END:VTIMEZONE
END:VCALENDAR